BEGIN:VCALENDAR
VERSION:2.0
PRODID:-//Tukios.com/
BEGIN:VEVENT
UID:e1b10a2d-6a37-4a03-9f29-d6ba21887a49@www.taylorprovidencefuneralhome.com
DTSTAMP:20260421T215922Z
DTSTART:20260424T173000Z
DTEND:20260424T183000Z
SUMMARY:Other
DESCRIPTION:
URL:https://www.taylorprovidencefuneralhome.com/obituaries/eslinda-moraida
LOCATION:Taylor City Cemetery  East 4th Street  Taylor TX 76574
GEO:30.5726423;-97.3991555
END:VEVENT
END:VCALENDAR