BEGIN:VCALENDAR
VERSION:2.0
PRODID:-//Tukios.com/
BEGIN:VEVENT
UID:b652eedd-572d-4e15-90dd-75d9771b7d9c@www.taylorprovidencefuneralhome.com
DTSTAMP:20260421T220419Z
DTSTART:20260424T160000Z
DTEND:20260424T170000Z
SUMMARY:Funeral Service
DESCRIPTION:
URL:https://www.taylorprovidencefuneralhome.com/obituaries/eslinda-moraida
LOCATION:Jerusalem Pentecostal Church 908 East Martin Luther King Junior 
	Boulevard  Taylor TX 76574
GEO:30.5650709;-97.4011166
END:VEVENT
END:VCALENDAR