BEGIN:VCALENDAR
VERSION:2.0
PRODID:-//Tukios.com/
BEGIN:VEVENT
UID:cb2a847d-df1b-4703-a7a4-5ad193b23b26@www.taylorprovidencefuneralhome.com
DTSTAMP:20260421T220106Z
DTSTART:20260424T000000Z
DTEND:20260424T010000Z
SUMMARY:Prayer Service
DESCRIPTION:
URL:https://www.taylorprovidencefuneralhome.com/obituaries/eslinda-moraida
LOCATION:Providence Funeral Home 807 Carlos G Parker Blvd NW  Taylor TX 
	76574
GEO:30.5824237;-97.4396264
END:VEVENT
END:VCALENDAR