BEGIN:VCALENDAR
VERSION:2.0
PRODID:-//Tukios.com/
BEGIN:VEVENT
UID:d7f205cc-f0b9-45f4-b846-4c3573e2e930@www.taylorprovidencefuneralhome.com
DTSTAMP:20260421T220419Z
DTSTART:20260423T220000Z
DTEND:20260424T000000Z
SUMMARY:Visitation
DESCRIPTION:
URL:https://www.taylorprovidencefuneralhome.com/obituaries/eslinda-moraida
LOCATION:Providence Funeral Home 807 Carlos G Parker Blvd NW  Taylor TX 
	76574
GEO:30.5824237;-97.4396264
END:VEVENT
END:VCALENDAR