BEGIN:VCALENDAR
VERSION:2.0
PRODID:-//Tukios.com/
BEGIN:VEVENT
UID:6b0503cd-57d8-44b1-a4c1-f58ee40299a6@www.taylorprovidencefuneralhome.com
DTSTAMP:20260421T004733Z
DTSTART:20260423
SUMMARY:Burial
DESCRIPTION:
URL:https://www.taylorprovidencefuneralhome.com/obituaries/donald-swenson
LOCATION:  East 4th Street  Taylor TX 76574
GEO:30.5726423;-97.3991555
END:VEVENT
END:VCALENDAR