BEGIN:VCALENDAR
VERSION:2.0
PRODID:-//Tukios.com/
BEGIN:VEVENT
UID:6072952e-e8b0-4676-9aba-eac4227bfcae@www.taylorprovidencefuneralhome.com
DTSTAMP:20260421T004611Z
DTSTART:20260423T150000Z
DTEND:20260423T160000Z
SUMMARY:Funeral Service
DESCRIPTION:
URL:https://www.taylorprovidencefuneralhome.com/obituaries/donald-swenson
LOCATION: 807 Carlos G Parker Blvd NW  Taylor TX 76574
GEO:30.5824237;-97.4396264
END:VEVENT
END:VCALENDAR