BEGIN:VCALENDAR
VERSION:2.0
PRODID:-//Tukios.com/
BEGIN:VEVENT
UID:6778c4b5-d13c-495e-882c-98c6b99a6dcb@www.taylorprovidencefuneralhome.com
DTSTAMP:20260421T004409Z
DTSTART:20260422T220000Z
DTEND:20260423T010000Z
SUMMARY:Visitation
DESCRIPTION:
URL:https://www.taylorprovidencefuneralhome.com/obituaries/donald-swenson
LOCATION: 807 Carlos G Parker Blvd NW  Taylor TX 76574
GEO:30.5824237;-97.4396264
END:VEVENT
END:VCALENDAR